Package: GA4GHclient Version: 1.31.0 Command: rm -rf GA4GHclient.buildbin-libdir && mkdir GA4GHclient.buildbin-libdir && /Users/biocbuild/BBS/utils/build-universal.sh GA4GHclient_1.31.0.tar.gz /Library/Frameworks/R.framework/Resources/bin/R GA4GHclient.buildbin-libdir StartedAt: 2025-02-10 00:54:15 -0500 (Mon, 10 Feb 2025) EndedAt: 2025-02-10 00:55:11 -0500 (Mon, 10 Feb 2025) EllapsedTime: 55.7 seconds RetCode: 0 Status: OK PackageFile: GA4GHclient_1.31.0.tgz PackageFileSize: 758.5 KiB