Package: GA4GHclient Version: 1.31.0 Command: /home/biocbuild/bbs-3.21-bioc/R/bin/R CMD INSTALL GA4GHclient StartedAt: 2025-02-04 15:42:09 -0500 (Tue, 04 Feb 2025) EndedAt: 2025-02-04 15:42:47 -0500 (Tue, 04 Feb 2025) EllapsedTime: 37.9 seconds RetCode: 0 Status: OK