Package: GA4GHclient Version: 1.31.0 Command: rm -rf GA4GHclient.buildbin-libdir && mkdir GA4GHclient.buildbin-libdir && E:\biocbuild\bbs-3.21-bioc\R\bin\R.exe CMD INSTALL --build --library=GA4GHclient.buildbin-libdir GA4GHclient_1.31.0.tar.gz StartedAt: 2025-02-05 07:58:16 -0500 (Wed, 05 Feb 2025) EndedAt: 2025-02-05 07:59:18 -0500 (Wed, 05 Feb 2025) EllapsedTime: 62.3 seconds RetCode: 0 Status: OK PackageFile: GA4GHclient_1.31.0.zip PackageFileSize: 762.4 KiB