Package: GA4GHclient Version: 1.31.0 Command: chmod a+r GA4GHclient -R && E:\biocbuild\bbs-3.21-bioc\R\bin\R.exe CMD build --keep-empty-dirs --no-resave-data GA4GHclient StartedAt: 2025-02-04 18:50:17 -0500 (Tue, 04 Feb 2025) EndedAt: 2025-02-04 18:52:03 -0500 (Tue, 04 Feb 2025) EllapsedTime: 105.9 seconds RetCode: 0 Status: OK PackageFile: GA4GHclient_1.31.0.tar.gz PackageFileSize: 638 KiB