Package: GA4GHclient Version: 1.31.0 Command: E:\biocbuild\bbs-3.21-bioc\R\bin\R.exe CMD INSTALL GA4GHclient StartedAt: 2025-02-09 16:39:49 -0500 (Sun, 09 Feb 2025) EndedAt: 2025-02-09 16:40:43 -0500 (Sun, 09 Feb 2025) EllapsedTime: 54.5 seconds RetCode: 0 Status: OK