Package: GARS Version: 1.27.0 Command: rm -rf GARS.buildbin-libdir && mkdir GARS.buildbin-libdir && /Users/biocbuild/BBS/utils/build-universal.sh GARS_1.27.0.tar.gz /Library/Frameworks/R.framework/Resources/bin/R GARS.buildbin-libdir StartedAt: 2025-02-10 00:54:20 -0500 (Mon, 10 Feb 2025) EndedAt: 2025-02-10 00:55:39 -0500 (Mon, 10 Feb 2025) EllapsedTime: 79.7 seconds RetCode: 0 Status: OK PackageFile: GARS_1.27.0.tgz PackageFileSize: 500.1 KiB