Package: GARS Version: 1.27.0 Command: /Library/Frameworks/R.framework/Resources/bin/R CMD INSTALL GARS StartedAt: 2025-02-12 15:39:03 -0500 (Wed, 12 Feb 2025) EndedAt: 2025-02-12 15:40:17 -0500 (Wed, 12 Feb 2025) EllapsedTime: 74.8 seconds RetCode: 0 Status: OK