Package: GARS Version: 1.27.0 Command: /home/biocbuild/bbs-3.21-bioc/R/bin/R CMD build --keep-empty-dirs --no-resave-data GARS StartedAt: 2025-02-12 17:15:25 -0500 (Wed, 12 Feb 2025) EndedAt: 2025-02-12 17:17:24 -0500 (Wed, 12 Feb 2025) EllapsedTime: 119.2 seconds RetCode: 0 Status: OK PackageFile: GARS_1.27.0.tar.gz PackageFileSize: 438.5 KiB