Package: GARS Version: 1.27.0 Command: /home/biocbuild/bbs-3.21-bioc/R/bin/R CMD check --install=check:GARS.install-out.txt --library=/home/biocbuild/bbs-3.21-bioc/R/site-library --timings GARS_1.27.0.tar.gz StartedAt: 2025-02-12 22:26:47 -0500 (Wed, 12 Feb 2025) EndedAt: 2025-02-12 22:34:45 -0500 (Wed, 12 Feb 2025) EllapsedTime: 478.7 seconds RetCode: 0 Status: OK CheckDir: GARS.Rcheck Warnings: 0