Package: GARS Version: 1.27.0 Command: /home/biocbuild/bbs-3.21-bioc/R/bin/R CMD INSTALL GARS StartedAt: 2025-02-09 15:53:38 -0500 (Sun, 09 Feb 2025) EndedAt: 2025-02-09 15:54:35 -0500 (Sun, 09 Feb 2025) EllapsedTime: 56.8 seconds RetCode: 0 Status: OK