Package: GARS Version: 1.27.0 Command: chmod a+r GARS -R && E:\biocbuild\bbs-3.21-bioc\R\bin\R.exe CMD build --keep-empty-dirs --no-resave-data GARS StartedAt: 2025-02-09 18:48:40 -0500 (Sun, 09 Feb 2025) EndedAt: 2025-02-09 18:51:19 -0500 (Sun, 09 Feb 2025) EllapsedTime: 158.9 seconds RetCode: 0 Status: OK PackageFile: GARS_1.27.0.tar.gz PackageFileSize: 439.1 KiB