Package: GARS Version: 1.27.0 Command: E:\biocbuild\bbs-3.21-bioc\R\bin\R.exe CMD check --no-multiarch --install=check:GARS.install-out.txt --library=E:\biocbuild\bbs-3.21-bioc\R\library --no-vignettes --timings GARS_1.27.0.tar.gz StartedAt: 2025-02-13 01:25:45 -0500 (Thu, 13 Feb 2025) EndedAt: 2025-02-13 01:33:37 -0500 (Thu, 13 Feb 2025) EllapsedTime: 471.5 seconds RetCode: 0 Status: OK CheckDir: GARS.Rcheck Warnings: 0