Package: GAprediction Version: 1.33.0 Command: rm -rf GAprediction.buildbin-libdir && mkdir GAprediction.buildbin-libdir && /Users/biocbuild/BBS/utils/build-universal.sh GAprediction_1.33.0.tar.gz /Library/Frameworks/R.framework/Resources/bin/R GAprediction.buildbin-libdir StartedAt: 2025-02-04 22:16:49 -0500 (Tue, 04 Feb 2025) EndedAt: 2025-02-04 22:16:54 -0500 (Tue, 04 Feb 2025) EllapsedTime: 5.1 seconds RetCode: 0 Status: OK PackageFile: GAprediction_1.33.0.tgz PackageFileSize: 878.4 KiB