Package: GAprediction Version: 1.33.0 Command: /home/biocbuild/R/R/bin/R CMD build --keep-empty-dirs --no-resave-data GAprediction StartedAt: 2025-01-28 23:00:14 -0000 (Tue, 28 Jan 2025) EndedAt: 2025-01-28 23:01:03 -0000 (Tue, 28 Jan 2025) EllapsedTime: 49.0 seconds RetCode: 0 Status: OK PackageFile: GAprediction_1.33.0.tar.gz PackageFileSize: 1.807 MiB