Package: GAprediction Version: 1.33.0 Command: /Library/Frameworks/R.framework/Resources/bin/R CMD build --keep-empty-dirs --no-resave-data GAprediction StartedAt: 2025-02-09 16:48:40 -0500 (Sun, 09 Feb 2025) EndedAt: 2025-02-09 16:49:26 -0500 (Sun, 09 Feb 2025) EllapsedTime: 45.8 seconds RetCode: 0 Status: OK PackageFile: GAprediction_1.33.0.tar.gz PackageFileSize: 1.806 MiB