Package: GAprediction Version: 1.33.0 Command: /home/biocbuild/bbs-3.21-bioc/R/bin/R CMD INSTALL GAprediction StartedAt: 2025-02-04 15:04:44 -0500 (Tue, 04 Feb 2025) EndedAt: 2025-02-04 15:05:01 -0500 (Tue, 04 Feb 2025) EllapsedTime: 17.3 seconds RetCode: 0 Status: OK