Package: GAprediction Version: 1.33.0 Command: E:\biocbuild\bbs-3.21-bioc\R\bin\R.exe CMD check --no-multiarch --install=check:GAprediction.install-out.txt --library=E:\biocbuild\bbs-3.21-bioc\R\library --no-vignettes --timings GAprediction_1.33.0.tar.gz StartedAt: 2025-02-10 01:14:29 -0500 (Mon, 10 Feb 2025) EndedAt: 2025-02-10 01:15:58 -0500 (Mon, 10 Feb 2025) EllapsedTime: 89.0 seconds RetCode: 0 Status: OK CheckDir: GAprediction.Rcheck Warnings: 0