Package: GDCRNATools Version: 1.27.0 Command: /home/biocbuild/R/R/bin/R CMD build --keep-empty-dirs --no-resave-data GDCRNATools StartedAt: 2025-01-28 23:01:26 -0000 (Tue, 28 Jan 2025) EndedAt: 2025-01-28 23:02:46 -0000 (Tue, 28 Jan 2025) EllapsedTime: 80.0 seconds RetCode: 0 Status: OK PackageFile: GDCRNATools_1.27.0.tar.gz PackageFileSize: 5.316 MiB