Package: GDCRNATools Version: 1.27.0 Command: /home/biocbuild/R/R/bin/R CMD INSTALL GDCRNATools StartedAt: 2025-01-29 20:33:42 -0000 (Wed, 29 Jan 2025) EndedAt: 2025-01-29 20:35:02 -0000 (Wed, 29 Jan 2025) EllapsedTime: 79.9 seconds RetCode: 0 Status: OK