Package: GDCRNATools Version: 1.27.0 Command: /home/biocbuild/bbs-3.21-bioc/R/bin/R CMD build --keep-empty-dirs --no-resave-data GDCRNATools StartedAt: 2025-02-12 17:15:52 -0500 (Wed, 12 Feb 2025) EndedAt: 2025-02-12 17:16:53 -0500 (Wed, 12 Feb 2025) EllapsedTime: 61.1 seconds RetCode: 0 Status: OK PackageFile: GDCRNATools_1.27.0.tar.gz PackageFileSize: 5.314 MiB