Package: GDCRNATools Version: 1.27.0 Command: /home/biocbuild/bbs-3.21-bioc/R/bin/R CMD INSTALL GDCRNATools StartedAt: 2025-02-09 15:47:34 -0500 (Sun, 09 Feb 2025) EndedAt: 2025-02-09 15:48:32 -0500 (Sun, 09 Feb 2025) EllapsedTime: 57.6 seconds RetCode: 0 Status: OK