Package: GDCRNATools Version: 1.27.0 Command: rm -rf GDCRNATools.buildbin-libdir && mkdir GDCRNATools.buildbin-libdir && E:\biocbuild\bbs-3.21-bioc\R\bin\R.exe CMD INSTALL --build --library=GDCRNATools.buildbin-libdir GDCRNATools_1.27.0.tar.gz StartedAt: 2025-02-05 07:58:44 -0500 (Wed, 05 Feb 2025) EndedAt: 2025-02-05 08:00:15 -0500 (Wed, 05 Feb 2025) EllapsedTime: 91.2 seconds RetCode: 0 Status: OK PackageFile: GDCRNATools_1.27.0.zip PackageFileSize: 3.373 MiB