Package: GDCRNATools Version: 1.27.0 Command: chmod a+r GDCRNATools -R && E:\biocbuild\bbs-3.21-bioc\R\bin\R.exe CMD build --keep-empty-dirs --no-resave-data GDCRNATools StartedAt: 2025-02-04 18:52:03 -0500 (Tue, 04 Feb 2025) EndedAt: 2025-02-04 18:53:17 -0500 (Tue, 04 Feb 2025) EllapsedTime: 73.3 seconds RetCode: 0 Status: OK PackageFile: GDCRNATools_1.27.0.tar.gz PackageFileSize: 5.314 MiB