Package: GDCRNATools Version: 1.27.0 Command: E:\biocbuild\bbs-3.21-bioc\R\bin\R.exe CMD check --no-multiarch --install=check:GDCRNATools.install-out.txt --library=E:\biocbuild\bbs-3.21-bioc\R\library --no-vignettes --timings GDCRNATools_1.27.0.tar.gz StartedAt: 2025-02-10 01:16:47 -0500 (Mon, 10 Feb 2025) EndedAt: 2025-02-10 01:23:29 -0500 (Mon, 10 Feb 2025) EllapsedTime: 401.3 seconds RetCode: 0 Status: OK CheckDir: GDCRNATools.Rcheck Warnings: 0