Package: GDSArray Version: 1.27.0 Command: /home/biocbuild/R/R/bin/R CMD build --keep-empty-dirs --no-resave-data GDSArray StartedAt: 2025-01-28 23:02:45 -0000 (Tue, 28 Jan 2025) EndedAt: 2025-01-28 23:03:23 -0000 (Tue, 28 Jan 2025) EllapsedTime: 38.0 seconds RetCode: 0 Status: OK PackageFile: GDSArray_1.27.0.tar.gz PackageFileSize: 372.1 KiB