Package: GDSArray Version: 1.27.0 Command: /Library/Frameworks/R.framework/Resources/bin/R CMD build --keep-empty-dirs --no-resave-data GDSArray StartedAt: 2025-02-04 16:46:29 -0500 (Tue, 04 Feb 2025) EndedAt: 2025-02-04 16:46:59 -0500 (Tue, 04 Feb 2025) EllapsedTime: 30.9 seconds RetCode: 0 Status: OK PackageFile: GDSArray_1.27.0.tar.gz PackageFileSize: 305.6 KiB