Package: GDSArray Version: 1.27.0 Command: /Library/Frameworks/R.framework/Resources/bin/R CMD INSTALL GDSArray StartedAt: 2025-02-04 15:10:41 -0500 (Tue, 04 Feb 2025) EndedAt: 2025-02-04 15:11:11 -0500 (Tue, 04 Feb 2025) EllapsedTime: 30.3 seconds RetCode: 0 Status: OK