Package: GDSArray Version: 1.27.0 Command: /home/biocbuild/bbs-3.21-bioc/R/bin/R CMD check --install=check:GDSArray.install-out.txt --library=/home/biocbuild/bbs-3.21-bioc/R/site-library --timings GDSArray_1.27.0.tar.gz StartedAt: 2025-02-04 22:30:00 -0500 (Tue, 04 Feb 2025) EndedAt: 2025-02-04 22:32:13 -0500 (Tue, 04 Feb 2025) EllapsedTime: 132.2 seconds RetCode: 0 Status: WARNINGS CheckDir: GDSArray.Rcheck Warnings: 2