Package: GDSArray Version: 1.27.0 Command: chmod a+r GDSArray -R && E:\biocbuild\bbs-3.21-bioc\R\bin\R.exe CMD build --keep-empty-dirs --no-resave-data GDSArray StartedAt: 2025-02-04 18:52:50 -0500 (Tue, 04 Feb 2025) EndedAt: 2025-02-04 18:53:29 -0500 (Tue, 04 Feb 2025) EllapsedTime: 39.5 seconds RetCode: 0 Status: OK PackageFile: GDSArray_1.27.0.tar.gz PackageFileSize: 305.8 KiB