Package: GDSArray Version: 1.27.0 Command: E:\biocbuild\bbs-3.21-bioc\R\bin\R.exe CMD INSTALL GDSArray StartedAt: 2025-02-04 15:39:21 -0500 (Tue, 04 Feb 2025) EndedAt: 2025-02-04 15:39:53 -0500 (Tue, 04 Feb 2025) EllapsedTime: 31.5 seconds RetCode: 0 Status: OK