Package: GEM Version: 1.33.0 Command: /Library/Frameworks/R.framework/Resources/bin/R CMD check --install=check:GEM.install-out.txt --library=/Library/Frameworks/R.framework/Resources/library --no-vignettes --timings GEM_1.33.0.tar.gz StartedAt: 2025-02-09 19:19:44 -0500 (Sun, 09 Feb 2025) EndedAt: 2025-02-09 19:20:12 -0500 (Sun, 09 Feb 2025) EllapsedTime: 27.3 seconds RetCode: 0 Status: OK CheckDir: GEM.Rcheck Warnings: 0