Package: GEM Version: 1.33.0 Command: /Library/Frameworks/R.framework/Resources/bin/R CMD INSTALL GEM StartedAt: 2025-02-09 15:05:47 -0500 (Sun, 09 Feb 2025) EndedAt: 2025-02-09 15:05:51 -0500 (Sun, 09 Feb 2025) EllapsedTime: 3.7 seconds RetCode: 0 Status: OK