Package: GEM Version: 1.33.0 Command: /home/biocbuild/R/R/bin/R CMD build --keep-empty-dirs --no-resave-data GEM StartedAt: 2025-01-28 23:02:55 -0000 (Tue, 28 Jan 2025) EndedAt: 2025-01-28 23:03:19 -0000 (Tue, 28 Jan 2025) EllapsedTime: 24.0 seconds RetCode: 0 Status: OK PackageFile: GEM_1.33.0.tar.gz PackageFileSize: 461.2 KiB