Package: GEM Version: 1.33.0 Command: /Library/Frameworks/R.framework/Resources/bin/R CMD build --keep-empty-dirs --no-resave-data GEM StartedAt: 2025-02-09 16:50:17 -0500 (Sun, 09 Feb 2025) EndedAt: 2025-02-09 16:50:41 -0500 (Sun, 09 Feb 2025) EllapsedTime: 24.1 seconds RetCode: 0 Status: OK PackageFile: GEM_1.33.0.tar.gz PackageFileSize: 689.2 KiB