Package: GEM Version: 1.33.0 Command: /home/biocbuild/bbs-3.21-bioc/R/bin/R CMD build --keep-empty-dirs --no-resave-data GEM StartedAt: 2025-02-09 17:20:12 -0500 (Sun, 09 Feb 2025) EndedAt: 2025-02-09 17:20:28 -0500 (Sun, 09 Feb 2025) EllapsedTime: 16.0 seconds RetCode: 0 Status: OK PackageFile: GEM_1.33.0.tar.gz PackageFileSize: 634.5 KiB