Package: GEM Version: 1.33.0 Command: /home/biocbuild/bbs-3.21-bioc/R/bin/R CMD INSTALL GEM StartedAt: 2025-02-09 15:08:17 -0500 (Sun, 09 Feb 2025) EndedAt: 2025-02-09 15:08:31 -0500 (Sun, 09 Feb 2025) EllapsedTime: 14.5 seconds RetCode: 0 Status: OK