Package: GEM Version: 1.33.0 Command: rm -rf GEM.buildbin-libdir && mkdir GEM.buildbin-libdir && E:\biocbuild\bbs-3.21-bioc\R\bin\R.exe CMD INSTALL --build --library=GEM.buildbin-libdir GEM_1.33.0.tar.gz StartedAt: 2025-02-13 07:58:34 -0500 (Thu, 13 Feb 2025) EndedAt: 2025-02-13 07:59:07 -0500 (Thu, 13 Feb 2025) EllapsedTime: 32.6 seconds RetCode: 0 Status: OK PackageFile: GEM_1.33.0.zip PackageFileSize: 619.3 KiB