Package: GEM Version: 1.33.0 Command: chmod a+r GEM -R && E:\biocbuild\bbs-3.21-bioc\R\bin\R.exe CMD build --keep-empty-dirs --no-resave-data GEM StartedAt: 2025-02-09 18:50:30 -0500 (Sun, 09 Feb 2025) EndedAt: 2025-02-09 18:50:57 -0500 (Sun, 09 Feb 2025) EllapsedTime: 27.3 seconds RetCode: 0 Status: OK PackageFile: GEM_1.33.0.tar.gz PackageFileSize: 419.5 KiB