Package: GENESIS Version: 2.37.0 Command: /home/biocbuild/R/R/bin/R CMD check --install=check:GENESIS.install-out.txt --library=/home/biocbuild/R/R/site-library --no-vignettes --timings GENESIS_2.37.0.tar.gz StartedAt: 2025-01-28 10:53:23 -0000 (Tue, 28 Jan 2025) EndedAt: 2025-01-28 11:00:48 -0000 (Tue, 28 Jan 2025) EllapsedTime: 445.3 seconds RetCode: 0 Status: OK CheckDir: GENESIS.Rcheck Warnings: 0