Package: GENESIS Version: 2.37.1 Command: /Library/Frameworks/R.framework/Resources/bin/R CMD INSTALL GENESIS StartedAt: 2025-02-12 15:36:19 -0500 (Wed, 12 Feb 2025) EndedAt: 2025-02-12 15:36:55 -0500 (Wed, 12 Feb 2025) EllapsedTime: 36.3 seconds RetCode: 0 Status: OK