Package: GENESIS Version: 2.37.1 Command: /home/biocbuild/bbs-3.21-bioc/R/bin/R CMD check --install=check:GENESIS.install-out.txt --library=/home/biocbuild/bbs-3.21-bioc/R/site-library --timings GENESIS_2.37.1.tar.gz StartedAt: 2025-02-12 22:34:36 -0500 (Wed, 12 Feb 2025) EndedAt: 2025-02-12 22:41:56 -0500 (Wed, 12 Feb 2025) EllapsedTime: 439.5 seconds RetCode: 0 Status: OK CheckDir: GENESIS.Rcheck Warnings: 0