Package: GENESIS Version: 2.37.1 Command: rm -rf GENESIS.buildbin-libdir && mkdir GENESIS.buildbin-libdir && E:\biocbuild\bbs-3.21-bioc\R\bin\R.exe CMD INSTALL --build --library=GENESIS.buildbin-libdir GENESIS_2.37.1.tar.gz StartedAt: 2025-02-10 07:48:44 -0500 (Mon, 10 Feb 2025) EndedAt: 2025-02-10 07:49:57 -0500 (Mon, 10 Feb 2025) EllapsedTime: 73.8 seconds RetCode: 0 Status: OK PackageFile: GENESIS_2.37.1.zip PackageFileSize: 3.212 MiB