Package: GENESIS Version: 2.37.1 Command: chmod a+r GENESIS -R && E:\biocbuild\bbs-3.21-bioc\R\bin\R.exe CMD build --keep-empty-dirs --no-resave-data GENESIS StartedAt: 2025-02-09 18:52:11 -0500 (Sun, 09 Feb 2025) EndedAt: 2025-02-09 18:54:26 -0500 (Sun, 09 Feb 2025) EllapsedTime: 134.7 seconds RetCode: 0 Status: OK PackageFile: GENESIS_2.37.1.tar.gz PackageFileSize: 2.927 MiB