Package: GENESIS Version: 2.37.1 Command: E:\biocbuild\bbs-3.21-bioc\R\bin\R.exe CMD check --no-multiarch --install=check:GENESIS.install-out.txt --library=E:\biocbuild\bbs-3.21-bioc\R\library --no-vignettes --timings GENESIS_2.37.1.tar.gz StartedAt: 2025-02-10 01:23:11 -0500 (Mon, 10 Feb 2025) EndedAt: 2025-02-10 01:32:39 -0500 (Mon, 10 Feb 2025) EllapsedTime: 568.0 seconds RetCode: 0 Status: OK CheckDir: GENESIS.Rcheck Warnings: 0