Package: GENESIS Version: 2.37.1 Command: E:\biocbuild\bbs-3.21-bioc\R\bin\R.exe CMD INSTALL GENESIS StartedAt: 2025-02-09 16:02:22 -0500 (Sun, 09 Feb 2025) EndedAt: 2025-02-09 16:03:40 -0500 (Sun, 09 Feb 2025) EllapsedTime: 78.3 seconds RetCode: 0 Status: OK