Package: GEOexplorer Version: 1.13.0 Command: /Library/Frameworks/R.framework/Resources/bin/R CMD check --install=check:GEOexplorer.install-out.txt --library=/Library/Frameworks/R.framework/Resources/library --no-vignettes --timings GEOexplorer_1.13.0.tar.gz StartedAt: 2025-02-09 19:25:40 -0500 (Sun, 09 Feb 2025) EndedAt: 2025-02-09 19:28:23 -0500 (Sun, 09 Feb 2025) EllapsedTime: 162.9 seconds RetCode: 0 Status: WARNINGS CheckDir: GEOexplorer.Rcheck Warnings: 1