Package: GEOexplorer Version: 1.13.0 Command: /Library/Frameworks/R.framework/Resources/bin/R CMD INSTALL GEOexplorer StartedAt: 2025-02-09 15:43:58 -0500 (Sun, 09 Feb 2025) EndedAt: 2025-02-09 15:44:55 -0500 (Sun, 09 Feb 2025) EllapsedTime: 57.0 seconds RetCode: 0 Status: OK