Package: GEOexplorer Version: 1.13.0 Command: /home/biocbuild/bbs-3.21-bioc/R/bin/R CMD INSTALL GEOexplorer StartedAt: 2025-02-09 15:32:53 -0500 (Sun, 09 Feb 2025) EndedAt: 2025-02-09 15:33:35 -0500 (Sun, 09 Feb 2025) EllapsedTime: 42.1 seconds RetCode: 0 Status: OK