Package: GEOfastq Version: 1.15.0 Command: rm -rf GEOfastq.buildbin-libdir && mkdir GEOfastq.buildbin-libdir && /Users/biocbuild/BBS/utils/build-universal.sh GEOfastq_1.15.0.tar.gz /Library/Frameworks/R.framework/Resources/bin/R GEOfastq.buildbin-libdir StartedAt: 2025-02-09 22:15:53 -0500 (Sun, 09 Feb 2025) EndedAt: 2025-02-09 22:15:55 -0500 (Sun, 09 Feb 2025) EllapsedTime: 2.1 seconds RetCode: 0 Status: OK PackageFile: GEOfastq_1.15.0.tgz PackageFileSize: 36.8 KiB