Package: GEOfastq Version: 1.15.0 Command: /Library/Frameworks/R.framework/Resources/bin/R CMD check --install=check:GEOfastq.install-out.txt --library=/Library/Frameworks/R.framework/Resources/library --no-vignettes --timings GEOfastq_1.15.0.tar.gz StartedAt: 2025-02-09 19:25:45 -0500 (Sun, 09 Feb 2025) EndedAt: 2025-02-09 19:26:07 -0500 (Sun, 09 Feb 2025) EllapsedTime: 22.3 seconds RetCode: 0 Status: OK CheckDir: GEOfastq.Rcheck Warnings: 0